BEGIN:VCALENDAR
VERSION:2.0
PRODID:-//Eventin//Event Calendar//EN
CALSCALE:GREGORIAN
METHOD:PUBLISH
BEGIN:VEVENT
UID:4d910cd901d339ea020ae6eb383a6a9c@rsa.org.hk
SUMMARY:金紫荊廣場升旗儀式
DESCRIPTION:
LOCATION:灣仔金紫荊廣場
DTSTAMP:20260421T130000Z
DTSTART:20260912T234500Z
DTEND:20260913T121500Z
END:VEVENT
END:VCALENDAR
